BEGIN:VCALENDAR
VERSION:2.0
PRODID:-//ROMEROTAGE - ECPv5.12.4//NONSGML v1.0//EN
CALSCALE:GREGORIAN
METHOD:PUBLISH
X-WR-CALNAME:ROMEROTAGE
X-ORIGINAL-URL:https://www.romerotage.de
X-WR-CALDESC:Veranstaltungen für ROMEROTAGE
BEGIN:VTIMEZONE
TZID:Europe/Berlin
BEGIN:DAYLIGHT
TZOFFSETFROM:+0100
TZOFFSETTO:+0200
TZNAME:CEST
DTSTART:20160327T010000
END:DAYLIGHT
BEGIN:STANDARD
TZOFFSETFROM:+0200
TZOFFSETTO:+0100
TZNAME:CET
DTSTART:20161030T010000
END:STANDARD
END:VTIMEZONE
BEGIN:VEVENT
DTSTART;TZID=Europe/Berlin:20160411T190000
DTEND;TZID=Europe/Berlin:20160411T190000
DTSTAMP:20260420T071119
CREATED:20160212T155454Z
LAST-MODIFIED:20180302T190933Z
UID:106-1460401200-1460401200@www.romerotage.de
SUMMARY:Count-Down am Xingu IV
DESCRIPTION:Dokumentarfilm von Martin Keßler | D 2014 | 76 min | deutsch | \n\nEs ist ein Kampf David gegen Goliath: Brasiliens Urbevölkerung gegen das Super-Staudammprojekt Belo Monte. Der Frankfurter Regisseur Martin Keßler hat das Projekt begleitet. \nSeit Jahren protestiert die indigene Bevölkerung des Amazonas-Urwalds in Brasilien\, zum Teil unter Lebensgefahr gegen den Bau des drittgrößten Staudamms der Welt am Xingu-Fluss. Trotz anderer Gesetze wird die Bevölkerung übergangen\, 40-tausend Menschen umgesiedelt und ihr Lebensraum unwiderruflich zerstört. Der katholische Bischof Erwin Kräutler zählt zu den Unterstützern ihres Widerstands. \n \nDer deutsche Regisseur Martin Keßler hat die Verflechtung von Profit und Politik in seinem Film dokumentiert\, zeitweise unter der Kontrolle eines vom Baukonsortium eingeschleusten Spitzels. \nAuch wirft der Regisseur die Frage nach alternativen Energien auf und wie demokratisch Brasilien ist. \nMartin Keßler wird anwesend sein.
URL:https://www.romerotage.de/event/2016_count-down-am-xingu-iv/
LOCATION:Kommunales Kino METROPOLIS\, Kleine Theaterstraße\, 20354 Hamburg
CATEGORIES:2016,Romero-Filmtage
END:VEVENT
END:VCALENDAR