BEGIN:VCALENDAR
VERSION:2.0
PRODID:-//ROMEROTAGE - ECPv5.12.4//NONSGML v1.0//EN
CALSCALE:GREGORIAN
METHOD:PUBLISH
X-WR-CALNAME:ROMEROTAGE
X-ORIGINAL-URL:https://www.romerotage.de
X-WR-CALDESC:Veranstaltungen für ROMEROTAGE
BEGIN:VTIMEZONE
TZID:Europe/Berlin
BEGIN:DAYLIGHT
TZOFFSETFROM:+0100
TZOFFSETTO:+0200
TZNAME:CEST
DTSTART:20160327T010000
END:DAYLIGHT
BEGIN:STANDARD
TZOFFSETFROM:+0200
TZOFFSETTO:+0100
TZNAME:CET
DTSTART:20161030T010000
END:STANDARD
END:VTIMEZONE
BEGIN:VEVENT
DTSTART;TZID=Europe/Berlin:20160407T180000
DTEND;TZID=Europe/Berlin:20160407T180000
DTSTAMP:20260420T034416
CREATED:20160218T121308Z
LAST-MODIFIED:20180302T191438Z
UID:132-1460052000-1460052000@www.romerotage.de
SUMMARY:Theologische Bildung und Fragen der Gerechtigkeit in Lateinamerika
DESCRIPTION:Vortrag und Diskussion |\nMit Dr. Patricia Cuyatti\, Generalsekretärin für Lateinamerika beim Lutherischen Weltbund. \nCuyatti erläutert Konzepte des LWB in Fragen der (Gender-) Gerechtigkeit und Jugendarbeit in LA. Der LWB wurde gegründet\, um diakonische Projekte in Gesellschaften zu unterstützen\, die sich im Wiederaufbau befinden. Schwerpunkte sind Projekte zur Einhaltung der Menschenrechte\, Theologische Ausbildung\, Umwelt und Gesundheit.
URL:https://www.romerotage.de/event/2016_theologische-bildung-und-fragen-der-gerechtigkeit-in-lateinamerika/
LOCATION:Uni Hamburg\, Phil 1150
CATEGORIES:2016,Programm
END:VEVENT
END:VCALENDAR