BEGIN:VCALENDAR
VERSION:2.0
PRODID:-//ROMEROTAGE - ECPv5.12.4//NONSGML v1.0//EN
CALSCALE:GREGORIAN
METHOD:PUBLISH
X-WR-CALNAME:ROMEROTAGE
X-ORIGINAL-URL:https://www.romerotage.de
X-WR-CALDESC:Veranstaltungen für ROMEROTAGE
BEGIN:VTIMEZONE
TZID:Europe/Berlin
BEGIN:DAYLIGHT
TZOFFSETFROM:+0100
TZOFFSETTO:+0200
TZNAME:CEST
DTSTART:20170326T010000
END:DAYLIGHT
BEGIN:STANDARD
TZOFFSETFROM:+0200
TZOFFSETTO:+0100
TZNAME:CET
DTSTART:20171029T010000
END:STANDARD
END:VTIMEZONE
BEGIN:VEVENT
DTSTART;TZID=Europe/Berlin:20170323T190000
DTEND;TZID=Europe/Berlin:20170323T190000
DTSTAMP:20260422T101201
CREATED:20170213T134532Z
LAST-MODIFIED:20180302T151606Z
UID:356-1490295600-1490295600@www.romerotage.de
SUMMARY:Die Kraft der Schwachen – El Poder de los Débiles
DESCRIPTION:Dokumentarfilm von Tobias Kriele\, Kuba/BRD 2015\, 52 min\, span. dt.Ut. \nJorgito aus Camagüey kommt mit schwerer Körperbehinderung zur Welt und erfährt sofort die intensive\, ausdauernde Unterstützung des kubanischen Bildungs- und Gesundheitssystems. Das ermöglicht ihm als Schüler\, Student und sogar Journalist diese Hilfe an seine Landsleute weiterzugeben\, sie zu motivieren sich für gesellschaftspolitische Aufgaben zu engagieren. \n\n\nDer Regisseur Tobias Kriele ist anwesend.
URL:https://www.romerotage.de/event/2017_die-kraft-der-schwachen-el-poder-de-los-debiles/
LOCATION:Kommunales Kino METROPOLIS\, Kleine Theaterstraße\, 20354 Hamburg
CATEGORIES:2017,Romero-Filmtage
ATTACH;FMTTYPE=image/jpeg:https://www.romerotage.de/cms/wp-content/uploads/2017/02/170323_filmtage.jpg
END:VEVENT
END:VCALENDAR