BEGIN:VCALENDAR
VERSION:2.0
PRODID:-//ROMEROTAGE - ECPv5.12.4//NONSGML v1.0//EN
CALSCALE:GREGORIAN
METHOD:PUBLISH
X-WR-CALNAME:ROMEROTAGE
X-ORIGINAL-URL:https://www.romerotage.de
X-WR-CALDESC:Veranstaltungen für ROMEROTAGE
BEGIN:VTIMEZONE
TZID:Europe/Berlin
BEGIN:DAYLIGHT
TZOFFSETFROM:+0100
TZOFFSETTO:+0200
TZNAME:CEST
DTSTART:20170326T010000
END:DAYLIGHT
BEGIN:STANDARD
TZOFFSETFROM:+0200
TZOFFSETTO:+0100
TZNAME:CET
DTSTART:20171029T010000
END:STANDARD
END:VTIMEZONE
BEGIN:VEVENT
DTSTART;TZID=Europe/Berlin:20170403T190000
DTEND;TZID=Europe/Berlin:20170403T190000
DTSTAMP:20260423T001435
CREATED:20170213T134513Z
LAST-MODIFIED:20180302T151657Z
UID:360-1491246000-1491246000@www.romerotage.de
SUMMARY:Meister des Todes
DESCRIPTION:Spielfilm von Grimme-Preisträger Daniel Harrich\, Deutschland. 2015\, dt. \nDer Regisseur deckt nach langer Recherche in deutschen Ministerien illegale Waffengeschäfte auf: Peter Zierler arbeitet beim Waffenhersteller HSW (Heckler und Koch)\, der Exportgeschäfte bis zur Illegalität betreibt. Peter soll in Mexiko das Gewehr SG38 präsentieren. Er erlebt\, wie bei einer Studenten-Demo auf die Jugendlichen mit dem Gewehr geschossen wird. Er ist schockiert und packt aus… bis in die oberen Behörden und reißt auch seine Familie mit in die Tiefe.
URL:https://www.romerotage.de/event/2017_meister-des-todes/
LOCATION:Kommunales Kino METROPOLIS\, Kleine Theaterstraße\, 20354 Hamburg
CATEGORIES:2017,Romero-Filmtage
ATTACH;FMTTYPE=image/jpeg:https://www.romerotage.de/cms/wp-content/uploads/2017/02/170403_filmtage.jpg
END:VEVENT
END:VCALENDAR