BEGIN:VCALENDAR
VERSION:2.0
PRODID:-//ROMEROTAGE - ECPv5.12.4//NONSGML v1.0//EN
CALSCALE:GREGORIAN
METHOD:PUBLISH
X-WR-CALNAME:ROMEROTAGE
X-ORIGINAL-URL:https://www.romerotage.de
X-WR-CALDESC:Veranstaltungen für ROMEROTAGE
BEGIN:VTIMEZONE
TZID:Europe/Berlin
BEGIN:DAYLIGHT
TZOFFSETFROM:+0100
TZOFFSETTO:+0200
TZNAME:CEST
DTSTART:20210328T010000
END:DAYLIGHT
BEGIN:STANDARD
TZOFFSETFROM:+0200
TZOFFSETTO:+0100
TZNAME:CET
DTSTART:20211031T010000
END:STANDARD
END:VTIMEZONE
BEGIN:VEVENT
DTSTART;TZID=Europe/Berlin:20210420T190000
DTEND;TZID=Europe/Berlin:20210420T190000
DTSTAMP:20260421T115637
CREATED:20210129T111221Z
LAST-MODIFIED:20210409T163601Z
UID:1301-1618945200-1618945200@www.romerotage.de
SUMMARY:Die Suchenden – Persistencia
DESCRIPTION:Dokumentarfilm von A. Huffschmid und J.-H. Hennies\, Deutschand / Mexiko 2019\, 54 min\, D \nOnline-Veranstaltung\nAnmeldung unter: mail@amnesty-mexiko-zentralamerika.de \nMenschliche Körper verschwinden nicht einfach. Sie werden verschleppt\, ermordet\, verscharrt. Es wird auch nach ihnen gesucht. Manche werden gefunden\, wenn forensischen Anthropolog*innen das Unwahrscheinliche gelingt\, als Menschen rekonstruiert. Diese kehren erst nach Hause zurück\, wenn sie als Tote identifiziert wurden.\nEine filmische Reise durch mexikanische Todeslandschaften und Grenzgebiete\, zwischen Grabstellen und Knochenteilen\, Familien und Forensiker*innen. Auf der Suche nach dem\, was bleibt\, trotz allem. \nVeranstalter: Amnesty International und Nicaragua-Verein
URL:https://www.romerotage.de/event/die-suchenden-persistencia-2/
CATEGORIES:2021_Film,2021_VA,Programm,Romero-Filmtage
END:VEVENT
END:VCALENDAR